BEGIN:VCALENDAR
VERSION:2.0
PRODID:-//CSU Waldershof - ECPv6.15.20//NONSGML v1.0//EN
CALSCALE:GREGORIAN
METHOD:PUBLISH
X-ORIGINAL-URL:https://www.csu-waldershof.de
X-WR-CALDESC:Veranstaltungen für CSU Waldershof
REFRESH-INTERVAL;VALUE=DURATION:PT1H
X-Robots-Tag:noindex
X-PUBLISHED-TTL:PT1H
BEGIN:VTIMEZONE
TZID:Europe/Paris
BEGIN:DAYLIGHT
TZOFFSETFROM:+0100
TZOFFSETTO:+0200
TZNAME:CEST
DTSTART:20220327T010000
END:DAYLIGHT
BEGIN:STANDARD
TZOFFSETFROM:+0200
TZOFFSETTO:+0100
TZNAME:CET
DTSTART:20221030T010000
END:STANDARD
BEGIN:DAYLIGHT
TZOFFSETFROM:+0100
TZOFFSETTO:+0200
TZNAME:CEST
DTSTART:20230326T010000
END:DAYLIGHT
BEGIN:STANDARD
TZOFFSETFROM:+0200
TZOFFSETTO:+0100
TZNAME:CET
DTSTART:20231029T010000
END:STANDARD
BEGIN:DAYLIGHT
TZOFFSETFROM:+0100
TZOFFSETTO:+0200
TZNAME:CEST
DTSTART:20240331T010000
END:DAYLIGHT
BEGIN:STANDARD
TZOFFSETFROM:+0200
TZOFFSETTO:+0100
TZNAME:CET
DTSTART:20241027T010000
END:STANDARD
BEGIN:DAYLIGHT
TZOFFSETFROM:+0100
TZOFFSETTO:+0200
TZNAME:CEST
DTSTART:20250330T010000
END:DAYLIGHT
BEGIN:STANDARD
TZOFFSETFROM:+0200
TZOFFSETTO:+0100
TZNAME:CET
DTSTART:20251026T010000
END:STANDARD
BEGIN:DAYLIGHT
TZOFFSETFROM:+0100
TZOFFSETTO:+0200
TZNAME:CEST
DTSTART:20260329T010000
END:DAYLIGHT
BEGIN:STANDARD
TZOFFSETFROM:+0200
TZOFFSETTO:+0100
TZNAME:CET
DTSTART:20261025T010000
END:STANDARD
BEGIN:DAYLIGHT
TZOFFSETFROM:+0100
TZOFFSETTO:+0200
TZNAME:CEST
DTSTART:20270328T010000
END:DAYLIGHT
BEGIN:STANDARD
TZOFFSETFROM:+0200
TZOFFSETTO:+0100
TZNAME:CET
DTSTART:20271031T010000
END:STANDARD
END:VTIMEZONE
BEGIN:VEVENT
DTSTART;TZID=Europe/Paris:20260308T080000
DTEND;TZID=Europe/Paris:20260308T180000
DTSTAMP:20260425T133036
CREATED:20260215T200048Z
LAST-MODIFIED:20260215T200407Z
UID:2062-1772956800-1772992800@www.csu-waldershof.de
SUMMARY:Kommunalwahl 2026
DESCRIPTION:Bitte gehen sie wählen!
URL:https://www.csu-waldershof.de/termin/kommunalwahl-2026
END:VEVENT
BEGIN:VEVENT
DTSTART;TZID=Europe/Paris:20260307T090000
DTEND;TZID=Europe/Paris:20260307T090000
DTSTAMP:20260425T133036
CREATED:20260215T203422Z
LAST-MODIFIED:20260215T203737Z
UID:2081-1772874000-1772874000@www.csu-waldershof.de
SUMMARY:Infostand zur Kommunalwahl bei EDEKA Lang
DESCRIPTION:Endspurt! Traditionell möchten wir sie am Vortag der Wahl noch einmal motivieren\, zur Wahl zu gehen. \nKommt vorbei\, lernt uns kennen und sprecht mit uns über das\, was euch bewegt und lernt unsere Kandidaten und Kandidatinnen kennen. In entspannter Atmosphäre laden wir alle Bürgerinnen und Bürger herzlich zum Gespräch ein. \nWir freuen uns auf gute Gespräche\, neue Ideen und den direkten Austausch mit euch! \nKommt vorbei\, bringt eure Familien mit! Wir freuen uns auf euch! \n#wirfürwaldershof \n  \n📅 Wann? Samstag\, 07. März 2026\n🕔 Uhrzeit? 09:00 Uhr\n📍 Treffpunkt? Edeka Lang Waldershof \n📆 keine Anmeldung erforderlich \nIhr CSU-Ortsverband Waldershof
URL:https://www.csu-waldershof.de/termin/infostand-bei-edeka-lang-waldershof-3
LOCATION:EDEKA Lang Waldershof\, Marktredwitzer Straße 37\, Waldershof\, 95679
END:VEVENT
BEGIN:VEVENT
DTSTART;TZID=Europe/Paris:20260301T160000
DTEND;TZID=Europe/Paris:20260301T160000
DTSTAMP:20260425T133036
CREATED:20260215T195733Z
LAST-MODIFIED:20260215T202224Z
UID:2059-1772380800-1772380800@www.csu-waldershof.de
SUMMARY:CSU Ortsteiltour - Waldershof - Finale mit Landrat Roland Grillmeier
DESCRIPTION:Wir kommen in euren Ortsteil! \nKommt vorbei\, lernt uns kennen und sprecht mit uns über das\, was euch bewegt und lernt unsere Kandidaten und Kandidatinnen kennen. In entspannter Atmosphäre laden wir alle Bürgerinnen und Bürger herzlich zum Gespräch ein – für Essen und Trinken ist gesorgt. \nWir freuen uns auf gute Gespräche\, neue Ideen und den direkten Austausch mit euch! \nKommt vorbei\, bringt eure Familien mit! Wir freuen uns auf euch! \n#wirfürwaldershof \n  \n📅 Wann? Sonntag\, 01. März 2026\n🕔 Uhrzeit? 16:00 Uhr\n📍 Treffpunkt? Stadtpark Waldershof \n📆 keine Anmeldung erforderlich \nIhr CSU-Ortsverband Waldershof
URL:https://www.csu-waldershof.de/termin/csu-ortsteilstour-waldershof-finale-mit-landrat-roland-grillmeier
LOCATION:Stadtpark Waldershof\, Stadtpark\, Waldershof\, 95679
END:VEVENT
BEGIN:VEVENT
DTSTART;TZID=Europe/Paris:20260222T150000
DTEND;TZID=Europe/Paris:20260222T150000
DTSTAMP:20260425T133036
CREATED:20260215T195305Z
LAST-MODIFIED:20260215T201853Z
UID:2055-1771772400-1771772400@www.csu-waldershof.de
SUMMARY:CSU Ortsteiltour - Helmbrechts/Schafbruck/Stieglmühle
DESCRIPTION:Wir kommen in euren Ortsteil! \nKommt vorbei\, lernt uns kennen und sprecht mit uns über das\, was euch bewegt und lernt unsere Kandidaten und Kandidatinnen kennen. In entspannter Atmosphäre laden wir alle Bürgerinnen und Bürger herzlich zum Gespräch ein – für Essen und Trinken ist gesorgt. \nWir freuen uns auf gute Gespräche\, neue Ideen und den direkten Austausch mit euch! \nKommt vorbei\, bringt eure Familien mit! Wir freuen uns auf euch! \n#wirfürwaldershof \n  \n📅 Wann? Sonntag\, 22. Februar 2026\n🕔 Uhrzeit? 15:00 Uhr\n📍 Treffpunkt? Feuerwehrhausplatz\, Helmbrechts \n📆 keine Anmeldung erforderlich \nIhr CSU-Ortsverband Waldershof
URL:https://www.csu-waldershof.de/termin/helmbrechts-schafbruck-stieglmuehle
LOCATION:Feuerwehrhausplatz\, Helmbrechts\, Feuerwehrhausplatz Helmbrechts\, Waldershof\, 95679
END:VEVENT
BEGIN:VEVENT
DTSTART;TZID=Europe/Paris:20260220T170000
DTEND;TZID=Europe/Paris:20260220T170000
DTSTAMP:20260425T133036
CREATED:20260215T194755Z
LAST-MODIFIED:20260215T201925Z
UID:2051-1771606800-1771606800@www.csu-waldershof.de
SUMMARY:CSU Ortsteiltour – Lengenfeld
DESCRIPTION:Wir kommen in euren Ortsteil! \nKommt vorbei\, lernt uns kennen und sprecht mit uns über das\, was euch bewegt und lernt unsere Kandidaten und Kandidatinnen kennen. In entspannter Atmosphäre laden wir alle Bürgerinnen und Bürger herzlich zum Gespräch ein – für Essen und Trinken ist gesorgt. \nWir freuen uns auf gute Gespräche\, neue Ideen und den direkten Austausch mit euch! \nKommt vorbei\, bringt eure Familien mit! Wir freuen uns auf euch! \n#wirfürwaldershof \n  \n📅 Wann? Freitag\, 20. Februar 2026\n🕔 Uhrzeit? 17:00 Uhr\n📍 Treffpunkt? @Toni Strunz\, Lengenfeld 1 \n📆 keine Anmeldung erforderlich \nIhr CSU-Ortsverband Waldershof
URL:https://www.csu-waldershof.de/termin/csu-ortsteiltour-lengenfeld
LOCATION:Toni Strunz\, Lengenfeld 1\, Waldershof\, 95679
END:VEVENT
BEGIN:VEVENT
DTSTART;TZID=Europe/Paris:20260207T180000
DTEND;TZID=Europe/Paris:20260207T180000
DTSTAMP:20260425T133036
CREATED:20260215T193830Z
LAST-MODIFIED:20260215T202006Z
UID:2045-1770487200-1770487200@www.csu-waldershof.de
SUMMARY:CSU Ortsteiltour - Rodenzenreuth / Schurbach
DESCRIPTION:Wir kommen in euren Ortsteil! \nKommt vorbei\, lernt uns kennen und sprecht mit uns über das\, was euch bewegt und lernt unsere Kandidaten und Kandidatinnen kennen. In entspannter Atmosphäre laden wir alle Bürgerinnen und Bürger herzlich zum Gespräch ein – für Essen und Trinken ist gesorgt. \nWir freuen uns auf gute Gespräche\, neue Ideen und den direkten Austausch mit euch! \nKommt vorbei\, bringt eure Familien mit! Wir freuen uns auf euch! \n#wirfürwaldershof \n  \n📅 Wann? Samstag\, 07. Februar 2026\n🕔 Uhrzeit? 18:00 Uhr\n📍 Treffpunkt? Beim Wofgang Schultes in Rodenzenreuth \n📆 keine Anmeldung erforderlich \nIhr CSU-Ortsverband Waldershof
URL:https://www.csu-waldershof.de/termin/csu-ortsteiltour-rodenzenreuth-schurbach
LOCATION:Wolfgang Schultes\, Rodenzenreuth 8a\, Waldershof\, 95679
END:VEVENT
BEGIN:VEVENT
DTSTART;TZID=Europe/Paris:20260206T170000
DTEND;TZID=Europe/Paris:20260206T170000
DTSTAMP:20260425T133036
CREATED:20260215T201210Z
LAST-MODIFIED:20260215T202203Z
UID:2065-1770397200-1770397200@www.csu-waldershof.de
SUMMARY:CSU Ortsteiltour - Poppenreuth / Hard / Hohenhard
DESCRIPTION:Wir kommen in euren Ortsteil! \nKommt vorbei\, lernt uns kennen und sprecht mit uns über das\, was euch bewegt und lernt unsere Kandidaten und Kandidatinnen kennen. In entspannter Atmosphäre laden wir alle Bürgerinnen und Bürger herzlich zum Gespräch ein – für Essen und Trinken ist gesorgt. \nWir freuen uns auf gute Gespräche\, neue Ideen und den direkten Austausch mit euch! \nKommt vorbei\, bringt eure Familien mit! Wir freuen uns auf euch! \n#wirfürwaldershof \n  \n📅 Wann? Freitag\, 06. Februar 2026\n🕔 Uhrzeit? 17:00 Uhr\n📍 Treffpunkt? Kramerstodl \n📆 keine Anmeldung erforderlich \nIhr CSU-Ortsverband Waldershof
URL:https://www.csu-waldershof.de/termin/csu-ortsteilstour-poppenreuth-hard-hohenhard
LOCATION:Kramerstodl\, Friedenfelser Str. 2\, Waldershof\, Poppenreuth\, 95679
END:VEVENT
BEGIN:VEVENT
DTSTART;TZID=Europe/Paris:20260201T150000
DTEND;TZID=Europe/Paris:20260201T150000
DTSTAMP:20260425T133036
CREATED:20260215T201729Z
LAST-MODIFIED:20260215T202244Z
UID:2069-1769958000-1769958000@www.csu-waldershof.de
SUMMARY:CSU Ortsteiltour - Walbenreuth / Wolfersreuth / Masch
DESCRIPTION:Wir kommen in euren Ortsteil! \nKommt vorbei\, lernt uns kennen und sprecht mit uns über das\, was euch bewegt und lernt unsere Kandidaten und Kandidatinnen kennen. In entspannter Atmosphäre laden wir alle Bürgerinnen und Bürger herzlich zum Gespräch ein – für Essen und Trinken ist gesorgt. \nWir freuen uns auf gute Gespräche\, neue Ideen und den direkten Austausch mit euch! \nKommt vorbei\, bringt eure Familien mit! Wir freuen uns auf euch! \n#wirfürwaldershof \n  \n📅 Wann? Samstag\, 01. Februar 2026\n🕔 Uhrzeit? 15:00 Uhr\n📍 Treffpunkt? Bushaltestelle Walbenreuth \n📆 keine Anmeldung erforderlich \nIhr CSU-Ortsverband Waldershof
URL:https://www.csu-waldershof.de/termin/csu-ortsteiletour-walbenreuth-wolfersreuth-masch
LOCATION:Bushaltestelle Walbenreuth\, Walbenreuth\, Waldershof\, 95679
END:VEVENT
BEGIN:VEVENT
DTSTART;TZID=Europe/Paris:20251218T183000
DTEND;TZID=Europe/Paris:20251218T183000
DTSTAMP:20260425T133036
CREATED:20251113T231329Z
LAST-MODIFIED:20251113T231409Z
UID:2037-1766082600-1766082600@www.csu-waldershof.de
SUMMARY:CSU-Weihnachtsfeier
DESCRIPTION:Unsere traditionelle CSU-Weihnachtsfeier findet in diesem Jahr beim Fleischgirgl statt. Die Organisation übernimmt wie in den letzten Jahren unser Weihnachtsfeierreferent Stefan Müller. \n📅 Wann? Donnerstag\, 18. Dezember 2025\n🕔 Uhrzeit? 18:30 Uhr\n📍 Treffpunkt? Fleischgirgl \n📆 Anmeldung bei Stefan per E-Mail oder telefonisch unter 0160 / 1566598. Es gibt 35 Plätze. \nIhr CSU-Ortsverband Waldershof
URL:https://www.csu-waldershof.de/termin/csu-weihnachtsfeier
LOCATION:Fleischgirgl\, Schafbruck 34\, Waldershof\, 95679
END:VEVENT
BEGIN:VEVENT
DTSTART;TZID=Europe/Paris:20251214T130000
DTEND;TZID=Europe/Paris:20251214T200000
DTSTAMP:20260425T133036
CREATED:20251113T224203Z
LAST-MODIFIED:20251113T231449Z
UID:2031-1765717200-1765742400@www.csu-waldershof.de
SUMMARY:Adventsmarkt der Stadt Waldershof
DESCRIPTION:Beim Adventsmarkt der Stadt Waldershof werden wir als CSU / JU Waldershof wieder mit einen gemeinsamen Stand vertreten sein. \n📅 Wann? Sonntag\, 14. Dezember 2025\n🕔 Uhrzeit? 13:00 – 20:00 Uhr\n📍 Treffpunkt? auf dem Vorplatz der alten Pfarrkirche St. Sebastian \nWir freuen uns auf zahlreichen Besuch. \nIhr CSU-Ortsverband Waldershof
URL:https://www.csu-waldershof.de/termin/adventsmarkt-der-stadt-waldershof
LOCATION:Pfarrkirche St. Sebastian\, Kirchgasse\, Waldershof\, 95679
END:VEVENT
BEGIN:VEVENT
DTSTART;TZID=Europe/Paris:20251202T193000
DTEND;TZID=Europe/Paris:20251202T193000
DTSTAMP:20260425T133036
CREATED:20251113T213203Z
LAST-MODIFIED:20251113T213232Z
UID:2028-1764703800-1764703800@www.csu-waldershof.de
SUMMARY:Nominerungsveranstaltung der Stadtratskandidatinnen und -kandidaten des Wählerbundes
DESCRIPTION:Nominerungsveranstaltung der Stadtratskandidatinnen und -kandidaten unseres Wählerbundes im Grünen Baum in Poppenreuth. Lasst uns wie bei der Nominierungsveranstaltung der CSU den Saal ähnlich füllen und die Liste des Wählerbundes geschlossen unterstützen. \n📅 Wann? Dienstag\, 02. Dezember 2025\n🕔 Uhrzeit? 19:30 Uhr\n📍 Treffpunkt? Grüner Baum\, Poppenreuth \nAnmeldung ist nicht erforderlich\, first come first serve. \nIhr CSU-Ortsverband Waldershof
URL:https://www.csu-waldershof.de/termin/nominerungsveranstaltung-der-stadtratskandidatinnen-und-kandidaten-unseres-waehlerbundes
LOCATION:Gasthaus „Grüner Baum“ Poppenreuth\, Steinwaldstraße 7\, Waldershof\, Poppenreuth\, 95679
END:VEVENT
BEGIN:VEVENT
DTSTART;TZID=Europe/Paris:20251129T190000
DTEND;TZID=Europe/Paris:20251129T190000
DTSTAMP:20260425T133037
CREATED:20251113T212517Z
LAST-MODIFIED:20251113T212517Z
UID:2023-1764442800-1764442800@www.csu-waldershof.de
SUMMARY:JU / CSU-Stammtisch im Brauhaus zum Thema „Wirtshauskultur in Waldershof“
DESCRIPTION:JU / CSU-Stammtisch im Brauhaus zum Thema „Wirtshauskultur in Waldershof“. \nWir wollen darüber sprechen\, wie wir unsere Wirtshauskultur erhalten und stärken können – und was nötig ist\, um dem Wirtshaussterben\, wie es etwa in Regionen wie dem Thüringer Wald zu beobachten ist\, entgegenzuwirken. \n📅 Wann? Freitag\, 29. November 2025\n🕔 Uhrzeit? 19:00 Uhr\n📍 Treffpunkt Brauhaus Waldershof \nAnmeldung ist nicht erforderlich\, first come first serve. \nIhr CSU-Ortsverband Waldershof
URL:https://www.csu-waldershof.de/termin/ju-csu-stammtisch-im-brauhaus-zum-thema-wirtshauskultur-in-waldershof
LOCATION:Brauhaus Waldershof\, Walbenreuther Str. 4\, Waldershof\, 95679
END:VEVENT
BEGIN:VEVENT
DTSTART;TZID=Europe/Paris:20251121T190000
DTEND;TZID=Europe/Paris:20251121T190000
DTSTAMP:20260425T133037
CREATED:20250912T143951Z
LAST-MODIFIED:20251113T211630Z
UID:1918-1763751600-1763751600@www.csu-waldershof.de
SUMMARY:Einkehr im Rawetzer Haus mit dem CSU-Ortsverband Marktredwitz
DESCRIPTION:Einkehr im Rawetzer Haus mit dem CSU-Ortsverband Marktredwitz \nWir wollen die Zusammenarbeit beider Ortsverbände stärken und uns über die Entwicklung unserer beiden Kommunen auszutauschen. \n📅 Wann? Freitag\, 21. November 2025\n🕔 Uhrzeit? 19:00 Uhr\n📍 Treffpunkt Marktredwitzer Haus \nBitte meldet euch bis Mittwoch\, den 19. November 2025 bei Simon Wollner an. Wir freuen uns auf den Austausch! \nIhr CSU-Ortsverband Waldershof
URL:https://www.csu-waldershof.de/termin/besichtigung-ortsumgehung-mit-einkehr-im-zoigl
LOCATION:Marktredwitzer Haus\, Harder Weg 15\, Waldershof\, 95679
END:VEVENT
BEGIN:VEVENT
DTSTART;TZID=Europe/Paris:20251020T190000
DTEND;TZID=Europe/Paris:20251020T190000
DTSTAMP:20260425T133037
CREATED:20250912T143155Z
LAST-MODIFIED:20250912T143538Z
UID:1914-1760986800-1760986800@www.csu-waldershof.de
SUMMARY:Nominierungsveranstaltung für die Kommunalwahl 2026 im Schaffnerlos
DESCRIPTION:Einladung zur Nominierungsveranstaltung \nDer CSU-Ortsverband Waldershof lädt herzlich ein zur offiziellen Nominierungsveranstaltung für die Kommunalwahl 2026. \n📅 Wann? Montag\, 20. Oktober 2025\n🕖 Uhrzeit? 19:00 Uhr\n📍 Wo? Schaffnerlos \nWeitere Details folgen. \nAlle interessierten Bürgerinnen und Bürger sind herzlich willkommen! \nIhr CSU-Ortsverband Waldershof
URL:https://www.csu-waldershof.de/termin/nominierungsveranstaltung-fuer-die-kommunalwahl-2026-im-schaffnerlos
LOCATION:Schaffnerlos Musikbahnhof\, Bahnhofstr. 57\, Waldershof\, 95679
END:VEVENT
BEGIN:VEVENT
DTSTART;TZID=Europe/Paris:20251019T180000
DTEND;TZID=Europe/Paris:20251019T180000
DTSTAMP:20260425T133037
CREATED:20250912T142642Z
LAST-MODIFIED:20250912T142707Z
UID:1911-1760896800-1760896800@www.csu-waldershof.de
SUMMARY:Der CSU-Ortsverband trifft sich zum Kirwaessen
DESCRIPTION:Einladung zum Kirwaessen im Grünen Baum \nDer CSU-Ortsverband Waldershof trifft sich zum gemütlichen Kirwaessen! \n📅 Wann? Sonntag\, 19. Oktober 2025\n🕕 Uhrzeit? 18:00 Uhr\n📍 Wo? Grüner Baum\, Poppenreuth \nGenießen Sie mit uns traditionelle Kirwaschmankerl\, gute Gespräche und geselliges Beisammensein in entspannter Atmosphäre. Wir freuen uns auf Ihr Kommen! \nIhr CSU-Ortsverband Waldershof
URL:https://www.csu-waldershof.de/termin/die-csu-trifft-sich-zum-kirwaessen
LOCATION:Gasthaus „Grüner Baum“ Poppenreuth\, Steinwaldstraße 7\, Waldershof\, Poppenreuth\, 95679
END:VEVENT
BEGIN:VEVENT
DTSTART;TZID=Europe/Paris:20251011T100000
DTEND;TZID=Europe/Paris:20251011T100000
DTSTAMP:20260425T133037
CREATED:20250912T142205Z
LAST-MODIFIED:20250912T142205Z
UID:1909-1760176800-1760176800@www.csu-waldershof.de
SUMMARY:Kommualer Spaziergang - Treffpunkt Stadtpark
DESCRIPTION:Herzliche Einladung zum Kommunalen Spaziergang durch Waldershof! \nDer CSU-Ortsverband Waldershof lädt alle Bürgerinnen und Bürger sowie Interessierte herzlich ein zu einem gemeinsamen Spaziergang durch unseren schönen Ort. \n📅 Wann? Samstag\, 11. Oktober 2025\n🕙 Uhrzeit? 10:00 Uhr\n📍 Treffpunkt? Stadtpark Waldershof \nGemeinsam möchten wir ins Gespräch kommen\, aktuelle kommunale Themen ansprechen und Ideen für die Zukunft unserer Stadt sammeln – ganz entspannt beim Gehen und Schauen. \nWir freuen uns auf Ihre Teilnahme und den Austausch mit Ihnen! \nIhr CSU-Ortsverband Waldershof \n 
URL:https://www.csu-waldershof.de/termin/kommualer-spaziergang-treffpunkt-stadtpark
LOCATION:Stadtgebiet Waldershof
END:VEVENT
BEGIN:VEVENT
DTSTART;TZID=Europe/Paris:20250309T190000
DTEND;TZID=Europe/Paris:20250309T190000
DTSTAMP:20260425T133037
CREATED:20250126T214900Z
LAST-MODIFIED:20250126T214900Z
UID:1849-1741546800-1741546800@www.csu-waldershof.de
SUMMARY:CSU-Jahreshauptversammlung mit Neuwahlen
DESCRIPTION:Am Sonntag\, den 09.03.2025\, 19:00 Uhr\, treffen wir uns zur CSU-Jahreshauptversammlung mit Neuwahlen im Restaurant „Grand Slam“ (Tennisheim Waldershof) \nWir freuen uns auf euer zahlreiches Erscheinen!
URL:https://www.csu-waldershof.de/termin/csu-jahreshauptversammlung-mit-neuwahlen
LOCATION:Restaurant „Grand Slam“ (Tennisheim)\, Rodenzenreuther Straße 20\, Waldershof\, 95679\, Germany
CATEGORIES:CSU Ortsverband
END:VEVENT
BEGIN:VEVENT
DTSTART;TZID=Europe/Paris:20250306T180000
DTEND;TZID=Europe/Paris:20250306T180000
DTSTAMP:20260425T133037
CREATED:20250126T214055Z
LAST-MODIFIED:20250126T214055Z
UID:1845-1741284000-1741284000@www.csu-waldershof.de
SUMMARY:Besichtigung RIO-Gebäude mit Vorstellung der Pläne
DESCRIPTION:Am Donnerstag\, 06.03.25\, laden wir sie zur Besichtigung des RIO-Gebäudes ein und möchten ihnen die Pläne für die weitere Nutzung vorstellen. \nGanz besonders freuen wir uns auch auf unsere Gäste\, MdB Albert Rupprecht und MdL Tobias Reiß.
URL:https://www.csu-waldershof.de/termin/besichtigung-rio-gebaeude-mit-vorstellung-der-plaene
LOCATION:RIO-Gebäude\, Bahnhofsstraße 18\, Waldershof\, 95679\, Germany
CATEGORIES:CSU Ortsverband
END:VEVENT
BEGIN:VEVENT
DTSTART;TZID=Europe/Paris:20250222T110000
DTEND;TZID=Europe/Paris:20250222T140000
DTSTAMP:20260425T133037
CREATED:20250126T213444Z
LAST-MODIFIED:20250126T213444Z
UID:1843-1740222000-1740232800@www.csu-waldershof.de
SUMMARY:Info-Stand zur Wahl mit Albert Rupprecht
DESCRIPTION:Am Vortag zum Wahlsonntag findet am Samstag\, 22.02.25\, von 11:00 bis 14:00 Uhr bei EDEKA Lang wieder unser Info-Stand zur Wahl statt. \nAls Gast freuen wir uns ganz besonders auf unseren Bundestagsabgeordneten Albert Rupprecht. \nWir freuen uns auf einen regen Austausch!
URL:https://www.csu-waldershof.de/termin/info-stand-zur-wahl-mit-albert-rupprecht
LOCATION:EDEKA Lang Waldershof\, Marktredwitzer Straße 37\, Waldershof\, 95679
CATEGORIES:CSU Ortsverband
END:VEVENT
BEGIN:VEVENT
DTSTART;TZID=Europe/Paris:20250216T160000
DTEND;TZID=Europe/Paris:20250216T180000
DTSTAMP:20260425T133037
CREATED:20250126T212707Z
LAST-MODIFIED:20250126T213601Z
UID:1840-1739721600-1739728800@www.csu-waldershof.de
SUMMARY:WINTER-GRILLER - Albert Rupprecht kommt nach Waldershof!
DESCRIPTION:Am Sonntag\, 16.02.25\, findet von 16:00 bis 18:00 Uhr im Hinterhof des Alten Rathauses unser WINTER-GRILLER statt. \nAls Gast freuen wir uns ganz besonders auf unseren Bundestagsabgeordneten Albert Rupprecht. \nAlle Interessierten sind herzlich eingeladen! Wir freuen uns auf einen regen Austausch!
URL:https://www.csu-waldershof.de/termin/winter-griller-albert-rupprecht-kommt-nach-waldershof
LOCATION:Altes Rathaus\, Markt 11\, Waldershof\, 95679\, Germany
CATEGORIES:CSU Ortsverband
END:VEVENT
BEGIN:VEVENT
DTSTART;TZID=Europe/Paris:20250106T100000
DTEND;TZID=Europe/Paris:20250106T100000
DTSTAMP:20260425T133037
CREATED:20241104T195155Z
LAST-MODIFIED:20241104T195155Z
UID:1729-1736157600-1736157600@www.csu-waldershof.de
SUMMARY:Neujahrsempfang CSU Nordoberpfalz in Weiden
DESCRIPTION:Am Montag\, 06.01.25\, findet ab 10:00 Uhr der Neujahrsempfang CSU Nordoberpfalz in Weiden mit MdEP Manfred Weber statt. \nBei Interesse wegen Fahrgemeinschaften bzw. Citybus bitte bei mario.rabenbauer@csu-waldershof.de melden.
URL:https://www.csu-waldershof.de/termin/neujahrsempfang-csu-nordoberpfalz-in-weiden
LOCATION:Weiden i.d.Opf.
END:VEVENT
BEGIN:VEVENT
DTSTART;TZID=Europe/Paris:20241219T180000
DTEND;TZID=Europe/Paris:20241219T180000
DTSTAMP:20260425T133037
CREATED:20241104T194711Z
LAST-MODIFIED:20241104T194711Z
UID:1725-1734631200-1734631200@www.csu-waldershof.de
SUMMARY:Weihnachtsfeier von CSU\, FU\, JU
DESCRIPTION:Die Weihnachtsfeier von CSU\, FU und JU findet dieses Jahr am 19.12. ab 18 Uhr im Marktredwitzer Haus statt. \nWir bitten wieder um Anmeldung bis 13.12. bei mario.rabenbauer@csu-waldershof.de und freuen uns einen besinnlichen und fröhlichen gemeinsamen Abend.
URL:https://www.csu-waldershof.de/termin/weihnachtsfeier-von-csu-fu-ju
LOCATION:Marktredwitzer Haus\, Harder Weg 15\, Waldershof\, 95679
END:VEVENT
BEGIN:VEVENT
DTSTART;TZID=Europe/Paris:20241215T130000
DTEND;TZID=Europe/Paris:20241215T130000
DTSTAMP:20260425T133037
CREATED:20241104T194116Z
LAST-MODIFIED:20241104T194116Z
UID:1721-1734267600-1734267600@www.csu-waldershof.de
SUMMARY:Waldershofer Adventsmarkt
DESCRIPTION:Am Sonntag\, 15.12.24\, sind wir wieder ab 13 Uhr mit einem Stand am Waldershofer Adventsmarkt dabei. Es werden noch Helfer gesucht! \nWir freuen uns auf ihren Besuch!
URL:https://www.csu-waldershof.de/termin/waldershofer-adventsmarkt
LOCATION:Stadtgebiet Waldershof
END:VEVENT
BEGIN:VEVENT
DTSTART;TZID=Europe/Paris:20241118T170000
DTEND;TZID=Europe/Paris:20241118T170000
DTSTAMP:20260425T133037
CREATED:20241104T193508Z
LAST-MODIFIED:20241104T193508Z
UID:1716-1731949200-1731949200@www.csu-waldershof.de
SUMMARY:Besichtigung Bauhof Waldershof
DESCRIPTION:Am Montag\, 18.11.24\, treffen wir uns um 17 Uhr zur Besichtigung des Bauhofs in Waldershof. Alle Interessierten sind eingeladen dabei zu sein. \nAnmeldung bitte bis 11.11.24 an mario.rabenbauer@csu-waldershof.de
URL:https://www.csu-waldershof.de/termin/besichtigung-bauhof-waldershof
LOCATION:Bauhof Waldershof\, Marktredwitzer Str. 30\, Waldershof\, 95679
END:VEVENT
BEGIN:VEVENT
DTSTART;TZID=Europe/Paris:20240429T190000
DTEND;TZID=Europe/Paris:20240429T190000
DTSTAMP:20260425T133037
CREATED:20240104T205923Z
LAST-MODIFIED:20240104T205923Z
UID:1573-1714417200-1714417200@www.csu-waldershof.de
SUMMARY:CSU-Jahreshauptversammlung
DESCRIPTION:Wir laden zur CSU-Jahreshauptversammlung mit Delegiertenwahl im Gasthof „Grüner Baum“\, Waldershof ein. \nAls Gast dürfen wir Landtagsvizepräsident Tobias Reiß begrüßen.
URL:https://www.csu-waldershof.de/termin/csu-jahreshauptversammlung
LOCATION:Gasthof „Grüner Baum“ Waldershof\, Kirchgasse 12\, Waldershof
END:VEVENT
BEGIN:VEVENT
DTSTART;TZID=Europe/Paris:20240214T190000
DTEND;TZID=Europe/Paris:20240214T190000
DTSTAMP:20260425T133037
CREATED:20240104T205525Z
LAST-MODIFIED:20240104T205525Z
UID:1571-1707937200-1707937200@www.csu-waldershof.de
SUMMARY:Politisches Fischessen mit Landtagsvizepräsident Tobias Reiß
DESCRIPTION:Am Aschermittwoch treffen wir uns zum politisches Fischessen mit Landtagsvizepräsident Tobias Reiß im Landgasthof „Zum Hirschen“\, Rodenzenreuth \nAnmeldung nötig bis 09.02.24 an mario.rabenbauer@csu-waldershof.de
URL:https://www.csu-waldershof.de/termin/politisches-fischessen-mit-landtagsvizepraesident-tobias-reiss
LOCATION:Gasthof „Zum Hirschen“ Rodenzenreuth\, Rodenzenreuth
END:VEVENT
BEGIN:VEVENT
DTSTART;TZID=Europe/Paris:20240120T090000
DTEND;TZID=Europe/Paris:20240120T090000
DTSTAMP:20260425T133037
CREATED:20240104T204903Z
LAST-MODIFIED:20240104T205029Z
UID:1566-1705741200-1705741200@www.csu-waldershof.de
SUMMARY:Jahresauftakt mit Frühstücksbuffett m. MdEP Christian Doleschal
DESCRIPTION:Am Samstag\, den 20. Januar\, treffen wir uns zum Jahresauftakt mit MdEP Christian Doleschal im Marktredwitzer Haus am Frühstücksbuffett. \nAnmeldung unbedingt nötig bis 14.01.24 an mario.rabenbauer@csu-waldershof.de
URL:https://www.csu-waldershof.de/termin/jahresauftakt-am-fruehstuecksbuffett-m-mdep-christian-doleschal
LOCATION:Marktredwitzer Haus\, Harder Weg 15\, Waldershof\, 95679
CATEGORIES:CSU Ortsverband
END:VEVENT
BEGIN:VEVENT
DTSTART;TZID=Europe/Paris:20231221T180000
DTEND;TZID=Europe/Paris:20231221T180000
DTSTAMP:20260425T133037
CREATED:20230807T120905Z
LAST-MODIFIED:20230808T130352Z
UID:1425-1703181600-1703181600@www.csu-waldershof.de
SUMMARY:Weihnachtsfeier von CSU\, FU und JU
DESCRIPTION:Die Weihnachtsfeier von CSU\, FU und JU findet dieses Jahr wieder im Landgasthof Steinwald statt. \nWir bitten wieder um Anmeldung bei mario.rabenbauer@csu-waldershof.de und freuen uns einen besinnlichen und fröhlichen gemeinsamen Abend.
URL:https://www.csu-waldershof.de/termin/weihnachtsfeier-von-csu-fu-und-ju
LOCATION:Landgasthof Steinwald\, Harlachberg 4\, Pullenreuth\, 95704
END:VEVENT
BEGIN:VEVENT
DTSTART;TZID=Europe/Paris:20231015T170000
DTEND;TZID=Europe/Paris:20231015T170000
DTSTAMP:20260425T133037
CREATED:20230807T120541Z
LAST-MODIFIED:20230808T125327Z
UID:1421-1697389200-1697389200@www.csu-waldershof.de
SUMMARY:Wanderung zum Kirwa-Essen
DESCRIPTION:Gemeinsam wandern wir zum Kirwa-Essen in den Gasthof „Zum Hirschen“ in Rodenzenreuth. \nWir bitten wieder um Anmeldung bis 30.09.23 bei mario.rabenbauer@csu-waldershof.de
URL:https://www.csu-waldershof.de/termin/wanderung-zum-kirwa-essen
LOCATION:Gasthof „Zum Hirschen“ Rodenzenreuth\, Rodenzenreuth
END:VEVENT
BEGIN:VEVENT
DTSTART;TZID=Europe/Paris:20231007T090000
DTEND;TZID=Europe/Paris:20231007T090000
DTSTAMP:20260425T133037
CREATED:20230807T120412Z
LAST-MODIFIED:20230808T125004Z
UID:1419-1696669200-1696669200@www.csu-waldershof.de
SUMMARY:Infostand zur Landtags- und Bezirkstagswahl
DESCRIPTION:Am Vortag zur Landtags- und Bezirkstagswahl am 8. Oktober 2023 möchten wir sie noch einmal informieren und motivieren zur Wahl zu gehen. \nEbenfalls erwarten wir unser Mitglied des Landtages des Stimmkreises Tirschenreuth\, MdL Tobias Reiß.
URL:https://www.csu-waldershof.de/termin/infostand-zur-landtags-und-bezirkstagswahl
LOCATION:EDEKA Lang Waldershof\, Marktredwitzer Straße 37\, Waldershof\, 95679
END:VEVENT
END:VCALENDAR